Workbook

Sheet Developer Costs
A1: STREETSCAPE - DEVELOPER COSTS
A2: COST ESTIMATION FORM (PART A)
A3: Parks and Natural Heritage, Planning (January 2024)
A4: PROJECT NAME: | D4: TOWN FILE No. 21T-
A5: DEVELOPER:
A6: ADDRESS:
A7: PHONE: | D7: E-Mail:
A8: CONSULTANT: | D8: DATE:
A9: ADDRESS: | D9: REVISED:
A10: PHONE: | D10: E-Mail:
A11: BLOCK No.: | D11: AREA: (ha):
A12: DEVELOPER COSTS
A13: The total cost of all items shown in this section will be installed at the Developer's expense. The total cost of all works shown in this section will be shown on the security memo.
A14: 1. STRUCTURES AND FENCING
A15: Entry Features
A16: Columns (Masonry, Tall) | D16: Ea. | E16: 7200 | F16: =C16*E16 -> 0
A17: Columns (Masonry, Low) | D17: Ea. | E17: 5400 | F17: =C17*E17 -> 0
A18: Feature Walls (Includes Signage) | D18: Ea. | F18: =C18*E18 -> 0
A19: Decorative Metal Fence | D19: L.M. | F19: =C19*E19 -> 0
A20: The Above Items require a 100% maintenance (cost carried over to summary sheet) | F20: =SUM(F16:F19)*1 -> 0
A21: Corporate Identifier | D21: Ea. | E21: 1800 | F21: =C21*E21 -> 0
A22: Unit Paving | D22: Sq. M. | E22: 150 | F22: =C22*E22 -> 0
A23: Concrete Paving (150mm) | D23: Sq. M. | E23: 165 | F23: =C23*E23 -> 0
A24: Impressed Concrete | D24: Sq. M. | E24: 240 | F24: =C24*E24 -> 0
A25: Masonry Wall (Commercial Block and Noise)
A26: Brick/Architectural Block | D26: L.M. | E26: 1400 | F26: =C26*E26 -> 0
A27: Precast Concrete | D27: L.M. | E27: 900 | F27: =C27*E27 -> 0
A28: Compact Brick Wall | D28: L.M. | E28: 1400 | F28: =C28*E28 -> 0
A29: Fencing and Masonry Column
A30: 1.2m ht. Metal Decorative | D30: L.M. | E30: 450 | F30: =C30*E30 -> 0
A31: 1.2m ht. Post and Rail | D31: L.M. | E31: 450 | F31: =C31*E31 -> 0
A32: Tall Precast Column (Fence) | D32: Ea. | E32: 7400 | F32: =C32*E32 -> 0
A33: Tall Masonry Column (Fence) | D33: Ea. | E33: 7200 | F33: =C33*E33 -> 0
A34: Low Precast Column (Fence) | D34: Ea. | E34: 5400 | F34: =C34*E34 -> 0
A35: Low Masonry Column (Fence) | D35: Ea. | E35: 5200 | F35: =C35*E35 -> 0
A36: Other (specify): | E36: 0 | F36: =C36*E36 -> 0
E37: 0 | F37: =C37*E37 -> 0
E38: 0 | F38: =C38*E38 -> 0
E39: 0 | F39: =C39*E39 -> 0
B40: STRUCTURES AND FENCING SUBTOTAL | F40: =SUM(F16:F19,F21:F24,F26:F28,F30:F39) -> 0
A42: 2. PLANTING
A43: Street Trees - 60mm cal. (Deciduous) | D43: Ea. | E43: 650 | F43: =C43*E43 -> 0
A44: Street Trees - 50mm cal. (Deciduous) | D44: Ea. | E44: 550 | F44: =C44*E44 -> 0
A45: Buffer Trees - 60mm cal. (Deciduous) | D45: Ea. | E45: 650 | F45: =C45*E45 -> 0
A46: Buffer Trees - 50mm cal. (Deciduous) | D46: Ea. | E46: 550 | F46: =C46*E46 -> 0
A47: Buffer Trees - 225cm ht. (Coniferous) | D47: Ea. | E47: 600 | F47: =C47*E47 -> 0
A48: Buffer Trees - 180cm ht. (Coniferous) | D48: Ea. | E48: 500 | F48: =C48*E48 -> 0
A49: Buffer Shrubs - 150cm ht. (Deciduous - multi-stem) | D49: Ea. | E49: 150 | F49: =C49*E49 -> 0
A50: Buffer Shrubs - 60cm ht. (Deciduous) | D50: Ea. | E50: 50 | F50: =C50*E50 -> 0
A51: Buffer Shrubs - 50cm ht./ spr. (Coniferous) | D51: Ea. | E51: 75 | F51: =C51*E51 -> 0
A52: Perennials and Ornamental Grasses | D52: Ea. | E52: 25 | F52: =C52*E52 -> 0
A53: Tree - 60mm cal. (Deciduous) Cash-in-Lieu will be collected at a rate of $650/ tree for each street tree to be planted by the Town in Future. Carried over to summary sheet. | D53: Ea. | E53: 650 | F53: =C53*E53 -> 0
A54: Tree - 60mm cal. (Deciduous) Cash-in-Lieu will be collected at a rate of $650/ tree for each compensation tree. Carried over to summary sheet. | D54: Ea. | E54: 650 | F54: =C54*E54 -> 0
A55: Other (specify): | E55: 0 | F55: =C55*E55 -> 0
E56: 0 | F56: =C56*E56 -> 0
E57: 0 | F57: =C57*E57 -> 0
B58: PLANTING SUBTOTAL | F58: =SUM(F43:F52,F55:F57) -> 0
A60: 3. SITE AMENITIES
A61: Benches | D61: Ea. | E61: 3000 | F61: =C61*E61 -> 0
A62: Removable Bollards | D62: Ea. | E62: 1000 | F62: =C62*E62 -> 0
A63: P-Gate | D63: Ea. | E63: 2500 | F63: =C63*E63 -> 0
A64: Unit Paving | D64: Sq. M. | E64: 150 | F64: =C64*E64 -> 0
A65: Concrete Paving (150mm) | D65: Sq. M. | E65: 165 | F65: =C65*E65 -> 0
A66: Impressed Concrete | D66: Sq. M. | E66: 240 | F66: =C66*E66 -> 0
A67: Shade Structure/ Trellis | D67: L.S. | E67: 0 | F67: =C67*E67 -> 0
A68: Raised Planters/ Concrete Seat Wall | D68: L.M. | E68: 0 | F68: =C68*E68 -> 0
A69: Other (specify): | E69: 0 | F69: =C69*E69 -> 0
E70: 0 | F70: =C70*E70 -> 0
E71: 0 | F71: =C71*E71 -> 0
E72: 0 | F72: =C72*E72 -> 0
B73: SITE AMENITITES SUBTOTAL | F73: =SUM(F61:F72) -> 0
A75: 4. IRRIGATION
A76: 5.0m Wide or Larger Islands (Centre Median Islands & Entrance Features including water service and meters required) | D76: L.S. | E76: 0 | F76: =C76*E76 -> 0
A77: The Above Items require a 10% maintenance (cost carried over to summary sheet) | F77: =F76*0.1 -> 0
B78: IRRIGATION SUBTOTAL | F78: =SUM(F76) -> 0
A80: 5. SOD
A81: Sod (Includes topsoil and fine grading) | D81: Sq. M. | E81: 10 | F81: =C81*E81 -> 0
B82: SOD SUBTOTAL | F82: =SUM(F81) -> 0
B83: DEVELOPER COSTS
D84: 1. Structures and Fencing | F84: =F40 -> 0
D85: 2. Planting | F85: =F58 -> 0
D86: 3. Site Amenities | F86: =F73 -> 0
D87: 4. Irrigation | F87: =F78 -> 0
D88: 5. Sod | F88: =F82 -> 0
B89: CONSTRUCTION SUBTOTAL | F89: =F84+F85+F86+F87+F88 -> 0
D90: 10% Consultant's Fee | F90: =F89*0.1 -> 0
B91: SUBTOTAL | F91: =F89+F90 -> 0
D92: 13% H.S.T. | F92: =F91*0.13 -> 0
B93: TOTAL PROJECT COST | F93: =F92+F91 -> 0
A95: 100% MAINTENANCE FEE ON ENTRY FEATURE STRUCTURES | F95: =F20 -> 0
A96: 10% MAINTENANCE FEE ON IRRIGATION SYSTEM(S) | F96: =F77 -> 0
A97: CASH-IN-LIEU FOR BOULEVARD TREES - $650.00 PER TREE | F97: =F53 -> 0
A98: CASH-IN-LIEU FOR COMPENSATION TREES - $650.00 PER TREE | F98: =F54 -> 0
A109: O.A.L.A. Member Seal and Signature
A110: *Total to be inserted on Schedule C of the Subdivision Agreement
A111: STORMWATER MANAGEMENT POND - DEVELOPER COSTS
A112: COST ESTIMATION FORM (PART B)
A113: Parks and Natural Heritage, Planning (January 2024)
A114: PROJECT NAME: | D114: TOWN FILE No. 21T-
A115: DEVELOPER:
...

Sheet Town Costs
A1: STORMWATER MANAGEMENT POND - TOWN COSTS
A2: COST ESTIMATION FORM
A3: Parks and Natural Heritage, Planning (January 2024)
A4: PROJECT NAME: | D4: TOWN FILE No. 21T-
A5: DEVELOPER:
A6: ADDRESS:
A7: PHONE: | D7: E-Mail:
A8: CONSULTANT: | D8: DATE:
A9: ADDRESS: | D9: REVISED:
A10: PHONE: | D10: E-Mail:
A11: BLOCK No.: | D11: AREA: (ha):
A12: TOWN COSTS
A13: The total cost of all items shown in this section will be installed at the Town's expense. The total cost of all works shown in this section will be shown in Schedule C-2 of the Subdivision Agreement.
A14: 1. SITE WORK
D15: L.S. | E15: 0 | F15: =C15*E15 -> 0
A16: Other (add to Addendum)
C17: SITE WORK SUBTOTAL | F17: =SUM(F15:F15) -> 0
D18: 4.5% Consultant's Fee | F18: =F17*0.045 -> 0
B19: SUBTOTAL | F19: =F17+F18 -> 0
D20: 13% H.S.T. | F20: =F19*0.13 -> 0
B21: TOTAL COST | F21: =F19+F20 -> 0
B22: ADDENDUM TOTAL | F22: ='Addendum-SWM'!J25 -> 0
B23: TOTAL PROJECT COST | F23: =F21+F22 -> 0
A28: O.A.L.A. Member Seal and Signature
A29: *Total to be inserted on Schedule C-2 of the Subdivision Agreement
A30: OPEN SPACE DEVELOPMENT - TOWN COSTS
A31: COST ESTIMATION FORM
A32: Parks and Natural Heritage, Planning (January 2024)
A33: PROJECT NAME: | D33: TOWN FILE No. 21T-
A34: DEVELOPER:
A35: ADDRESS:
A36: PHONE: | D36: E-Mail:
A37: CONSULTANT: | D37: DATE:
A38: ADDRESS: | D38: REVISED:
A39: PHONE: | D39: E-Mail:
A40: BLOCK No.: | D40: AREA: (ha):
A41: TOWN COSTS
A42: The total cost of all items shown in this section will be installed at the Town's expense. The total cost of all works shown in this section will be shown in Schedule C-2 of the Subdivision Agreement.
A43: 1. SITE WORK
C44: 3 | D44: L.S. | E44: 0 | F44: =C44*E44 -> 0
A45: Other (add to Addendum)
B46: SITE WORK SUBTOTAL | F46: =SUM(F44:F44) -> 0
D47: 4.5% Consultant's Fee | F47: =F46*0.045 -> 0
B48: SUBTOTAL | F48: =F46+F47 -> 0
D49: 13% H.S.T. | F49: =F48*0.13 -> 0
B50: TOTAL COST | F50: =F48+F49 -> 0
B51: ADDENDUM TOTAL | F51: ='Addendum-Open Space'!J25 -> 0
B52: TOTAL PROJECT COST | F52: =F50+F51 -> 0
A57: O.A.L.A. Member Seal and Signature
A58: *Total to be inserted on Schedule C-2 of the Subdivision Agreement
A59: PARKLAND DEVELOPMENT - TOWN COSTS
A60: COST ESTIMATION FORM
A61: Parks and Natural Heritage, Planning (January 2024)
A62: PROJECT NAME: | D62: TOWN FILE No. 21T-
A63: DEVELOPER:
A64: ADDRESS:
A65: PHONE: | D65: E-Mail:
A66: CONSULTANT: | D66: DATE:
A67: ADDRESS: | D67: REVISED:
A68: PHONE: | D68: E-Mail:
A69: BLOCK No.: | D69: AREA: (ha):
A70: TOWN COSTS
A71: The total cost of all items shown in this section will be installed at the Town's expense. The total cost of all works shown in this section will be shown in Schedule C-2 of the Subdivision Agreement.
A72: 1. SITE WORK
A73: Layout and Grade Staking | D73: L.S. | E73: 0 | F73: =C73*E73 -> 0
A74: Rough grading (area) or | D74: Sq. M. | E74: 2 | F74: =C74*E74 -> 0
A75: Rough grading (volume) | D75: Cu. M. | E75: 7.5 | F75: =C75*E75 -> 0
A76: Remove and Disposal of Existing Paige Wire Fence | D76: L.S. | E76: 0 | F76: =C76*E76 -> 0
A77: Topsoil Placement and Fine Grading | D77: Sq. M. | E77: 4.5 | F77: =C77*E77 -> 0
A78: Sodding | D78: Sq. M. | E78: 7.5 | F78: =C78*E78 -> 0
A79: Seeding - Mechanical | D79: Sq. M. | E79: 4 | F79: =C79*E79 -> 0
A80: Seeding - Hydroseeding | D80: Sq. M. | E80: 2 | F80: =C80*E80 -> 0
A81: 3m wide Asphalt Walkway | D81: Sq. M. | E81: 85 | F81: =C81*E81 -> 0
A82: Impressed Concrete | D82: Sq. M. | E82: 240 | F82: =C82*E82 -> 0
A83: Concrete Paving (150mm) | D83: Sq. M. | E83: 165 | F83: =C83*E83 -> 0
A84: Limestone Screenings Walkway | D84: Sq. M. | E84: 50 | F84: =C84*E84 -> 0
... A95: Park Sign (Installation only - supplied by Town) | D95: Ea. | E95: 1200 | F95: =C95*E95 -> 0
A96: Other (add to Addendum):
C97: SITE WORK SUBTOTAL | F97: =SUM(F73:F95) -> 0
A99: 2. PLANTING
A100: Deciduous Trees
A101: - 100 mm cal. | D101: Ea. | E101: 830 | F101: =C101*E101 -> 0
A102: - 60 mm cal. | D102: Ea. | E102: 650 | F102: =C102*E102 -> 0
A103: - 50 mm cal.. | D103: Ea. | E103: 550 | F103: =C103*E103 -> 0
A104: Coniferous Trees
A105: - 225 cm ht. | D105: Ea. | E105: 600 | F105: =C105*E105 -> 0
A106: - 200 cm ht. | D106: Ea. | E106: 550 | F106: =C106*E106 -> 0
A107: - 180 cm ht. | D107: Ea. | E107: 450 | F107: =C107*E107 -> 0
A108: Deciduous Shrubs
A109: - 100 cm ht. | D109: Ea. | E109: 75 | F109: =C109*E109 -> 0
A110: - 80 cm ht. | D110: Ea. | E110: 60 | F110: =C110*E110 -> 0
A111: - 60 cm ht. | D111: Ea. | E111: 50 | F111: =C111*E111 -> 0
A112: Coniferous Shrubs & Broadleaf Evergreens
A113: - 50 cm ht./ spr. | D113: Ea. | E113: 75 | F113: =C113*E113 -> 0
A114: - 40 cm ht. / spr. | D114: Ea. | E114: 60 | F114: =C114*E114 -> 0
A115: Perennials and Ornamental Grasses | D115: Ea. | E115: 25 | F115: =C115*E115 -> 0
A116: Other (add to Addendum):
C117: PLANTING SUBTOTAL | F117: =SUM(F100:F115) -> 0
A119: 3. SITE AMENITIES
A120: Benches | D120: Ea. | E120: 3000 | F120: =C120*E120 -> 0
...

Sheet Addendum-SWM
D1: SWM Pond Development Cost Addendum - Town Costs
A3: Project Name: | H3: 21T (No.)
H4: Date:
A6: Block No. | H6: Revision Date:
A9: No. | B9: Decription | E9: Qty. | F9: Unit | G9: Unit Cost (Town) | H9: Unit Cost (Construction) | I9: Town Cost | J9: Construction Cost
A10: 1 | I10: =E10*G10 -> 0 | J10: =E10*H10 -> 0
A11: 2 | I11: =E11*G11 -> 0 | J11: =E11*H11 -> 0
A12: 3 | I12: =E12*G12 -> 0 | J12: =E12*H12 -> 0
A13: 4 | I13: =E13*G13 -> 0 | J13: =E13*H13 -> 0
A14: 5 | I14: =E14*G14 -> 0 | J14: =E14*H14 -> 0
A15: 6 | I15: =E15*G15 -> 0 | J15: =E15*H15 -> 0
A16: 7 | I16: =E16*G16 -> 0 | J16: =E16*H16 -> 0
A17: 8 | I17: =E17*G17 -> 0 | J17: =E17*H17 -> 0
A18: 9 | I18: =E18*G18 -> 0 | J18: =E18*H18 -> 0
A19: 10 | I19: =E19*G19 -> 0 | J19: =E19*H19 -> 0
G20: TOTAL | I20: =SUM(I10:I19) -> 0 | J20: =SUM(J10:J19) -> 0
G21: Cost Difference | J21: =J20-I20 -> 0
G22: 4.5% Consultant's Fee | J22: =J21*0.045 -> 0
G23: SUBTOTAL | J23: =J21+J22 -> 0
G24: 13% H.S.T. | J24: =J23*0.13 -> 0
G25: ADDENDUM TOTAL | J25: =J23+J24 -> 0
G26: (CARRY OVER TO COST ESTIMATE FORM)
A29: O.A.L.A. Member Seal and Signature

Sheet Addendum-Open Space
D1: Open Space Cost Addendum - Town Costs
A3: Project Name: | H3: 21T (No.)
H4: Date:
A6: Block No. | H6: Revision Date:
A9: No. | B9: Decription | E9: Qty. | F9: Unit | G9: Unit Cost (Town) | H9: Unit Cost (Construction) | I9: Town Cost | J9: Construction Cost
A10: 1 | I10: =E10*G10 -> 0 | J10: =E10*H10 -> 0
A11: 2 | I11: =E11*G11 -> 0 | J11: =E11*H11 -> 0
A12: 3 | I12: =E12*G12 -> 0 | J12: =E12*H12 -> 0
A13: 4 | I13: =E13*G13 -> 0 | J13: =E13*H13 -> 0
A14: 5 | I14: =E14*G14 -> 0 | J14: =E14*H14 -> 0
A15: 6 | I15: =E15*G15 -> 0 | J15: =E15*H15 -> 0
A16: 7 | I16: =E16*G16 -> 0 | J16: =E16*H16 -> 0
A17: 8 | I17: =E17*G17 -> 0 | J17: =E17*H17 -> 0
A18: 9 | I18: =E18*G18 -> 0 | J18: =E18*H18 -> 0
A19: 10 | I19: =E19*G19 -> 0 | J19: =E19*H19 -> 0
G20: TOTAL | I20: =SUM(I10:I19) -> 0 | J20: =SUM(J10:J19) -> 0
G21: Cost Difference | J21: =J20-I20 -> 0
G22: 4.5% Consultant's Fee | J22: =J21*0.045 -> 0
G23: SUBTOTAL | J23: =J21+J22 -> 0
G24: 13% H.S.T. | J24: =J23*0.13 -> 0
G25: ADDENDUM TOTAL | J25: =J23+J24 -> 0
G26: (CARRY OVER TO COST ESTIMATE FORM)
A29: O.A.L.A. Member Seal and Signature

Sheet Addendum-Parkland 
D1: Parkland Development Cost Addendum - Town Costs
A3: Project Name: | H3: 21T (No.)
H4: Date:
A6: Block No. | H6: Revision Date:
A9: No. | B9: Decription | E9: Qty. | F9: Unit | G9: Unit Cost (Town) | H9: Unit Cost (Construction) | I9: Town Cost | J9: Construction Cost
A10: 1 | I10: =E10*G10 -> 0 | J10: =E10*H10 -> 0
A11: 2 | I11: =E11*G11 -> 0 | J11: =E11*H11 -> 0
A12: 3 | I12: =E12*G12 -> 0 | J12: =E12*H12 -> 0
A13: 4 | I13: =E13*G13 -> 0 | J13: =E13*H13 -> 0
A14: 5 | I14: =E14*G14 -> 0 | J14: =E14*H14 -> 0
A15: 6 | I15: =E15*G15 -> 0 | J15: =E15*H15 -> 0
A16: 7 | I16: =E16*G16 -> 0 | J16: =E16*H16 -> 0
A17: 8 | I17: =E17*G17 -> 0 | J17: =E17*H17 -> 0
A18: 9 | I18: =E18*G18 -> 0 | J18: =E18*H18 -> 0
A19: 10 | I19: =E19*G19 -> 0 | J19: =E19*H19 -> 0
G20: TOTAL | I20: =SUM(I10:I19) -> 0 | J20: =SUM(J10:J19) -> 0
G21: Cost Difference | J21: =J20-I20 -> 0
G22: 4.5% Consultant's Fee | J22: =J21*0.045 -> 0
G23: SUBTOTAL | J23: =J21+J22 -> 0
G24: 13% H.S.T. | J24: =J23*0.13 -> 0
G25: ADDENDUM TOTAL | J25: =J23+J24 -> 0
G26: (CARRY OVER TO COST ESTIMATE FORM)
A29: O.A.L.A. Member Seal and Signature

Sheet Summary - Developer Costs
A1: CONSTRUCTION COST ESTIMATE SUMMARY
A2: COST ESTIMATION FORM - DEVELOPER COSTS
A3: Parks and Natural Heritage, Planning (January 2024)
A4: PROJECT NAME: | D4: TOWN FILE No. 21T-
A5: DEVELOPER:
A6: ADDRESS:
A7: PHONE: | D7: E-Mail:
A8: CONSULTANT: | D8: DATE:
A9: ADDRESS: | D9: REVISED:
A10: PHONE: | D10: E-Mail:
A11: BLOCK No.: | D11: AREA: (ha):
F12: AMOUNT
A13: PART A | B13: STREETSCAPE | F13: ='Developer Costs'!$F$93 -> 0
A15: PART B | B15: STORMWATER MANAGEMENT POND | F15: ='Developer Costs'!$F$170 -> 0
A17: PART C | B17: OPEN SPACE | F17: ='Developer Costs'!$F$234 -> 0
E19: SUBTOTAL (Part A-C) | F19: =F13+F15+F17 -> 0
A21: 100% MAINTENANCE FEE ON ENTRY FEATURE STRUCTURES | F21: ='Developer Costs'!$F$95 -> 0
A23: 10% MAINTENANCE FEE ON IRRIGATION SYSTEM(S) | F23: ='Developer Costs'!$F$96 -> 0
A25: PART D | B25: PARKLAND (PARK BASE CONDITIONS) | F25: ='Developer Costs'!$F$301 -> 0
E27: TOTAL (Part A-D and 10% mainteance fee) | F27: =F19+F21+F23+F25 -> 0
A29: CASH-IN-LIEU FOR BOULEVARD TREES - $650.00 PER TREE | F29: ='Developer Costs'!$F$97 -> 0
A31: CASH-IN-LIEU FOR COMPENSATION TREES - $650.00 PER TREE | F31: ='Developer Costs'!$F$98 -> 0
E33: TOTAL | F33: =SUM(F21:F32) -> 0

Sheet Summary - Town Costs
A1: CONSTRUCTION COST ESTIMATE SUMMARY
A2: COST ESTIMATION FORM - TOWN COSTS
A3: Parks and Natural Heritage, Planning (January 2024)
A4: PROJECT NAME: | D4: TOWN FILE No. 21T-
A5: DEVELOPER:
A6: ADDRESS:
A7: PHONE: | D7: E-Mail:
A8: CONSULTANT: | D8: DATE:
A9: ADDRESS: | D9: REVISED:
A10: PHONE: | D10: E-Mail:
A11: BLOCK No.: | D11: AREA: (ha):
F12: AMOUNT
A13: STORMWATER MANAGEMENT POND | F13: ='Town Costs'!$F$23 -> 0
A15: OPEN SPACE | F15: ='Town Costs'!$F$52 -> 0
A17: PARKLAND | F17: ='Town Costs'!$F$184 -> 0
D19: TOTAL | F19: =SUM(F13:F18) -> 0
