Workbook

Sheet Developer Costs
A1: STREETSCAPE - DEVELOPER COSTS
A2: COST ESTIMATION FORM (PART A)
A3: Parks and Natural Heritage, Planning (January 2024)
A4: PROJECT NAME: | D4: TOWN FILE No. 21T-
A5: DEVELOPER:
A6: ADDRESS:
A7: PHONE: | D7: E-Mail:
A8: CONSULTANT: | D8: DATE:
A9: ADDRESS: | D9: REVISED:
A10: PHONE: | D10: E-Mail:
A11: BLOCK No.: | D11: AREA: (ha):
A12: DEVELOPER COSTS
A13: The total cost of all items shown in this section will be installed at the Developer's expense. The total cost of all works shown in this section will be shown on the security memo.
A14: 1. STRUCTURES AND FENCING
A15: Entry Features
A16: Columns (Masonry, Tall) | D16: Ea. | E16: 7200 | F16: =C16*E16 -> 0
A17: Columns (Masonry, Low) | D17: Ea. | E17: 5400 | F17: =C17*E17 -> 0
A18: Feature Walls (Includes Signage) | D18: Ea. | F18: =C18*E18 -> 0
A19: Decorative Metal Fence | D19: L.M. | F19: =C19*E19 -> 0
A20: The Above Items require a 100% maintenance (cost carried over to summary sheet) | F20: =SUM(F16:F19)*1 -> 0
A21: Corporate Identifier | D21: Ea. | E21: 1800 | F21: =C21*E21 -> 0
A22: Unit Paving | D22: Sq. M. | E22: 150 | F22: =C22*E22 -> 0
A23: Concrete Paving (150mm) | D23: Sq. M. | E23: 165 | F23: =C23*E23 -> 0
A24: Impressed Concrete | D24: Sq. M. | E24: 240 | F24: =C24*E24 -> 0
A25: Masonry Wall (Commercial Block and Noise)
A26: Brick/Architectural Block | D26: L.M. | E26: 1400 | F26: =C26*E26 -> 0
A27: Precast Concrete | D27: L.M. | E27: 900 | F27: =C27*E27 -> 0
A28: Compact Brick Wall | D28: L.M. | E28: 1400 | F28: =C28*E28 -> 0
A29: Fencing and Masonry Column
A30: 1.2m ht. Metal Decorative | D30: L.M. | E30: 450 | F30: =C30*E30 -> 0
A31: 1.2m ht. Post and Rail | D31: L.M. | E31: 450 | F31: =C31*E31 -> 0
A32: Tall Precast Column (Fence) | D32: Ea. | E32: 7400 | F32: =C32*E32 -> 0
A33: Tall Masonry Column (Fence) | D33: Ea. | E33: 7200 | F33: =C33*E33 -> 0
A34: Low Precast Column (Fence) | D34: Ea. | E34: 5400 | F34: =C34*E34 -> 0
A35: Low Masonry Column (Fence) | D35: Ea. | E35: 5200 | F35: =C35*E35 -> 0
A36: Other (specify): | E36: 0 | F36: =C36*E36 -> 0
E37: 0 | F37: =C37*E37 -> 0
E38: 0 | F38: =C38*E38 -> 0
E39: 0 | F39: =C39*E39 -> 0
B40: STRUCTURES AND FENCING SUBTOTAL | F40: =SUM(F16:F19,F21:F24,F26:F28,F30:F39) -> 0
...

Sheet Town Costs
A1: STORMWATER MANAGEMENT POND - TOWN COSTS
A2: COST ESTIMATION FORM
A3: Parks and Natural Heritage, Planning (January 2024)
A4: PROJECT NAME: | D4: TOWN FILE No. 21T-
A5: DEVELOPER:
A6: ADDRESS:
A7: PHONE: | D7: E-Mail:
A8: CONSULTANT: | D8: DATE:
A9: ADDRESS: | D9: REVISED:
A10: PHONE: | D10: E-Mail:
A11: BLOCK No.: | D11: AREA: (ha):
A12: TOWN COSTS
A13: The total cost of all items shown in this section will be installed at the Town's expense. The total cost of all works shown in this section will be shown in Schedule C-2 of the Subdivision Agreement.
A14: 1. SITE WORK
D15: L.S. | E15: 0 | F15: =C15*E15 -> 0
A16: Other (add to Addendum)
C17: SITE WORK SUBTOTAL | F17: =SUM(F15:F15) -> 0
D18: 4.5% Consultant's Fee | F18: =F17*0.045 -> 0
B19: SUBTOTAL | F19: =F17+F18 -> 0
D20: 13% H.S.T. | F20: =F19*0.13 -> 0
B21: TOTAL COST | F21: =F19+F20 -> 0
B22: ADDENDUM TOTAL | F22: ='Addendum-SWM'!J25 -> 0
B23: TOTAL PROJECT COST | F23: =F21+F22 -> 0
A28: O.A.L.A. Member Seal and Signature
A29: *Total to be inserted on Schedule C-2 of the Subdivision Agreement
A30: OPEN SPACE DEVELOPMENT - TOWN COSTS
A31: COST ESTIMATION FORM
A32: Parks and Natural Heritage, Planning (January 2024)
A33: PROJECT NAME: | D33: TOWN FILE No. 21T-
A34: DEVELOPER:
A35: ADDRESS:
A36: PHONE: | D36: E-Mail:
A37: CONSULTANT: | D37: DATE:
A38: ADDRESS: | D38: REVISED:
A39: PHONE: | D39: E-Mail:
A40: BLOCK No.: | D40: AREA: (ha):
A41: TOWN COSTS
A42: The total cost of all items shown in this section will be installed at the Town's expense. The total cost of all works shown in this section will be shown in Schedule C-2 of the Subdivision Agreement.
A43: 1. SITE WORK
C44: 3 | D44: L.S. | E44: 0 | F44: =C44*E44 -> 0
...

Sheet Addendum-SWM
D1: SWM Pond Development Cost Addendum - Town Costs
A3: Project Name: | H3: 21T (No.)
H4: Date:
A6: Block No. | H6: Revision Date:
A9: No. | B9: Decription | E9: Qty. | F9: Unit | G9: Unit Cost (Town) | H9: Unit Cost (Construction) | I9: Town Cost | J9: Construction Cost
A10: 1 | I10: =E10*G10 -> 0 | J10: =E10*H10 -> 0
A11: 2 | I11: =E11*G11 -> 0 | J11: =E11*H11 -> 0
A12: 3 | I12: =E12*G12 -> 0 | J12: =E12*H12 -> 0
A13: 4 | I13: =E13*G13 -> 0 | J13: =E13*H13 -> 0
A14: 5 | I14: =E14*G14 -> 0 | J14: =E14*H14 -> 0
A15: 6 | I15: =E15*G15 -> 0 | J15: =E15*H15 -> 0
A16: 7 | I16: =E16*G16 -> 0 | J16: =E16*H16 -> 0
A17: 8 | I17: =E17*G17 -> 0 | J17: =E17*H17 -> 0
A18: 9 | I18: =E18*G18 -> 0 | J18: =E18*H18 -> 0
A19: 10 | I19: =E19*G19 -> 0 | J19: =E19*H19 -> 0
G20: TOTAL | I20: =SUM(I10:I19) -> 0 | J20: =SUM(J10:J19) -> 0
G21: Cost Difference | J21: =J20-I20 -> 0
G22: 4.5% Consultant's Fee | J22: =J21*0.045 -> 0
G23: SUBTOTAL | J23: =J21+J22 -> 0
G24: 13% H.S.T. | J24: =J23*0.13 -> 0
G25: ADDENDUM TOTAL | J25: =J23+J24 -> 0
G26: (CARRY OVER TO COST ESTIMATE FORM)
A29: O.A.L.A. Member Seal and Signature

Sheet Addendum-Open Space
D1: Open Space Cost Addendum - Town Costs
A3: Project Name: | H3: 21T (No.)
H4: Date:
A6: Block No. | H6: Revision Date:
A9: No. | B9: Decription | E9: Qty. | F9: Unit | G9: Unit Cost (Town) | H9: Unit Cost (Construction) | I9: Town Cost | J9: Construction Cost
A10: 1 | I10: =E10*G10 -> 0 | J10: =E10*H10 -> 0
A11: 2 | I11: =E11*G11 -> 0 | J11: =E11*H11 -> 0
A12: 3 | I12: =E12*G12 -> 0 | J12: =E12*H12 -> 0
A13: 4 | I13: =E13*G13 -> 0 | J13: =E13*H13 -> 0
A14: 5 | I14: =E14*G14 -> 0 | J14: =E14*H14 -> 0
A15: 6 | I15: =E15*G15 -> 0 | J15: =E15*H15 -> 0
A16: 7 | I16: =E16*G16 -> 0 | J16: =E16*H16 -> 0
A17: 8 | I17: =E17*G17 -> 0 | J17: =E17*H17 -> 0
A18: 9 | I18: =E18*G18 -> 0 | J18: =E18*H18 -> 0
A19: 10 | I19: =E19*G19 -> 0 | J19: =E19*H19 -> 0
G20: TOTAL | I20: =SUM(I10:I19) -> 0 | J20: =SUM(J10:J19) -> 0
G21: Cost Difference | J21: =J20-I20 -> 0
G22: 4.5% Consultant's Fee | J22: =J21*0.045 -> 0
G23: SUBTOTAL | J23: =J21+J22 -> 0
G24: 13% H.S.T. | J24: =J23*0.13 -> 0
G25: ADDENDUM TOTAL | J25: =J23+J24 -> 0
G26: (CARRY OVER TO COST ESTIMATE FORM)
A29: O.A.L.A. Member Seal and Signature

Sheet Addendum-Parkland 
D1: Parkland Development Cost Addendum - Town Costs
A3: Project Name: | H3: 21T (No.)
H4: Date:
A6: Block No. | H6: Revision Date:
A9: No. | B9: Decription | E9: Qty. | F9: Unit | G9: Unit Cost (Town) | H9: Unit Cost (Construction) | I9: Town Cost | J9: Construction Cost
A10: 1 | I10: =E10*G10 -> 0 | J10: =E10*H10 -> 0
A11: 2 | I11: =E11*G11 -> 0 | J11: =E11*H11 -> 0
A12: 3 | I12: =E12*G12 -> 0 | J12: =E12*H12 -> 0
A13: 4 | I13: =E13*G13 -> 0 | J13: =E13*H13 -> 0
A14: 5 | I14: =E14*G14 -> 0 | J14: =E14*H14 -> 0
A15: 6 | I15: =E15*G15 -> 0 | J15: =E15*H15 -> 0
A16: 7 | I16: =E16*G16 -> 0 | J16: =E16*H16 -> 0
A17: 8 | I17: =E17*G17 -> 0 | J17: =E17*H17 -> 0
A18: 9 | I18: =E18*G18 -> 0 | J18: =E18*H18 -> 0
A19: 10 | I19: =E19*G19 -> 0 | J19: =E19*H19 -> 0
G20: TOTAL | I20: =SUM(I10:I19) -> 0 | J20: =SUM(J10:J19) -> 0
G21: Cost Difference | J21: =J20-I20 -> 0
G22: 4.5% Consultant's Fee | J22: =J21*0.045 -> 0
G23: SUBTOTAL | J23: =J21+J22 -> 0
G24: 13% H.S.T. | J24: =J23*0.13 -> 0
G25: ADDENDUM TOTAL | J25: =J23+J24 -> 0
G26: (CARRY OVER TO COST ESTIMATE FORM)
A29: O.A.L.A. Member Seal and Signature

Sheet Summary - Developer Costs
A1: CONSTRUCTION COST ESTIMATE SUMMARY
A2: COST ESTIMATION FORM - DEVELOPER COSTS
A3: Parks and Natural Heritage, Planning (January 2024)
A4: PROJECT NAME: | D4: TOWN FILE No. 21T-
A5: DEVELOPER:
A6: ADDRESS:
A7: PHONE: | D7: E-Mail:
A8: CONSULTANT: | D8: DATE:
A9: ADDRESS: | D9: REVISED:
A10: PHONE: | D10: E-Mail:
A11: BLOCK No.: | D11: AREA: (ha):
F12: AMOUNT
A13: PART A | B13: STREETSCAPE | F13: ='Developer Costs'!$F$93 -> 0
A15: PART B | B15: STORMWATER MANAGEMENT POND | F15: ='Developer Costs'!$F$170 -> 0
A17: PART C | B17: OPEN SPACE | F17: ='Developer Costs'!$F$234 -> 0
E19: SUBTOTAL (Part A-C) | F19: =F13+F15+F17 -> 0
A21: 100% MAINTENANCE FEE ON ENTRY FEATURE STRUCTURES | F21: ='Developer Costs'!$F$95 -> 0
A23: 10% MAINTENANCE FEE ON IRRIGATION SYSTEM(S) | F23: ='Developer Costs'!$F$96 -> 0
A25: PART D | B25: PARKLAND (PARK BASE CONDITIONS) | F25: ='Developer Costs'!$F$301 -> 0
E27: TOTAL (Part A-D and 10% mainteance fee) | F27: =F19+F21+F23+F25 -> 0
A29: CASH-IN-LIEU FOR BOULEVARD TREES - $650.00 PER TREE | F29: ='Developer Costs'!$F$97 -> 0
A31: CASH-IN-LIEU FOR COMPENSATION TREES - $650.00 PER TREE | F31: ='Developer Costs'!$F$98 -> 0
E33: TOTAL | F33: =SUM(F21:F32) -> 0

Sheet Summary - Town Costs
A1: CONSTRUCTION COST ESTIMATE SUMMARY
A2: COST ESTIMATION FORM - TOWN COSTS
A3: Parks and Natural Heritage, Planning (January 2024)
A4: PROJECT NAME: | D4: TOWN FILE No. 21T-
A5: DEVELOPER:
A6: ADDRESS:
A7: PHONE: | D7: E-Mail:
A8: CONSULTANT: | D8: DATE:
A9: ADDRESS: | D9: REVISED:
A10: PHONE: | D10: E-Mail:
A11: BLOCK No.: | D11: AREA: (ha):
F12: AMOUNT
A13: STORMWATER MANAGEMENT POND | F13: ='Town Costs'!$F$23 -> 0
A15: OPEN SPACE | F15: ='Town Costs'!$F$52 -> 0
A17: PARKLAND | F17: ='Town Costs'!$F$184 -> 0
D19: TOTAL | F19: =SUM(F13:F18) -> 0
